BEGIN:VCALENDAR
VERSION:2.0
PRODID:-//XGC 2026 Calendar//EN
BEGIN:VEVENT
UID:69e77480324b4@crossgenerationla.com
DTSTAMP:20260421T125840Z
DTSTART;VALUE=DATE:00000000
DTEND;VALUE=DATE:00000000
SUMMARY:Church Event
END:VEVENT
END:VCALENDAR
